BEGIN:VCALENDAR
VERSION:2.0
CALSCALE:GREGORIAN
PRODID:-//MyApp//Calendar 1.0//EN
BEGIN:VEVENT
METHOD:PUBLISH
UID:44702@regionalniportaly.cz
DTSTAMP:20260424T100206Z
DTSTART;VALUE=DATE:20241012
DTEND;VALUE=DATE:20241013
SUMMARY:Cocotte Minute - BEST OFF KHA Tour 2024
DESCRIPTION:Cocotte Minute - BEST OFF KHA Tour 2024
LOCATION:Plzeň
END:VEVENT
END:VCALENDAR