BEGIN:VCALENDAR
VERSION:2.0
CALSCALE:GREGORIAN
PRODID:-//MyApp//Calendar 1.0//EN
BEGIN:VEVENT
METHOD:PUBLISH
UID:44700@regionalniportaly.cz
DTSTAMP:20260424T081725Z
DTSTART;VALUE=DATE:20240823
DTEND;VALUE=DATE:20240824
SUMMARY:4 ROCKEŘI s operní pěvkyní
DESCRIPTION:PROŽIJTE SOUZNĚNÍ ROCKOVÝCH HLASŮ S OPERNÍMRepertoár tvoří originálně upravené světové a české hity\, převedené z jiných hudebních žánrů&nbsp\;do rockových aranží.Na koncertě například zazní:&nbsp\;Smetanova Vltava\, Back to Black\, Atlantida\, Fantom Opery\, Sweet Dreams\, The Diva Dance a mnoho dalších hitů v rockovém kabátě.Zpívají: Jiří Zonyga\, Milan Devinne\, Leona Šenková\, Jan Vytásek a operní pěvkyně Monika SommerováTo vše naživo s doprovodem skvělých hudebníků naší populární scény.
LOCATION:Plzeň
END:VEVENT
END:VCALENDAR