BEGIN:VCALENDAR
VERSION:2.0
CALSCALE:GREGORIAN
PRODID:-//MyApp//Calendar 1.0//EN
BEGIN:VEVENT
METHOD:PUBLISH
UID:44689@regionalniportaly.cz
DTSTAMP:20260424T080725Z
DTSTART;VALUE=DATE:20241004
DTEND;VALUE=DATE:20241005
SUMMARY:Necrotted\, Cutterred Flesh\, Isacaarum\, Ingrowing
DESCRIPTION:Křest nových desek kapel Cutterred Flesh a Isacaarum. Jako hlavní host vystoupí Necrotted z Německa. S novým materiálem se představí také Ingrowing. A můžete se těšit také na Anime Torment.Vstupné 350 Kč.Program18:30 - Anime Torment19:30 - Ingrowing20:30 - Isacaarum - křest desky21:30 - Cutterred Flesh - křest desky22:30 - Necrotted
LOCATION:Plzeň
END:VEVENT
END:VCALENDAR