BEGIN:VCALENDAR
VERSION:2.0
CALSCALE:GREGORIAN
PRODID:-//MyApp//Calendar 1.0//EN
BEGIN:VEVENT
METHOD:PUBLISH
UID:44685@regionalniportaly.cz
DTSTAMP:20260424T162753Z
DTSTART;VALUE=DATE:20241201
DTEND;VALUE=DATE:20241202
SUMMARY:Adventní koncert - české a světové koledy
DESCRIPTION:Nádherný koncert\, který s úspěchem uvádíme v Praze i jiných městech s krásnými skladbami vánočními\, českými a evropskými koledami v podání renomovaného kvarteta:&nbsp\;MUSICA FESTIVA Olga Vít Krumholzová– soprán\, Petr Štěpán – kytara Šárka Trávníčková – housle\, Gabriela Plachá - hoboj&nbsp\;.PROGRAM:G. F. HANDEL – Joy to the world! (Oratiorium Mesiáš)J. F. WADE – Adeste FidelesC.&nbsp\; FRANCK – Panis AngelicusG. P. TELEMANN – Allegro pro housle\, hoboj a kytaruG. GOUNOD – Ave Mariafrancouzská koleda: "Les Angesdans nos campagnes" (Gloria)G. F. HANDEL – Pifa – pastorální symfonie&nbsp\; (Oratorium Mesiáš)J. HAYDN: Pastorela – Cantilena for Adventkatalánská koleda : „ Fum\, fum\, fum“G. BRAGA – Andělská serenádaJ. B. FOERSTER – Zvěst andělská a Ó pastýři\, slyš!R. BINGE (Anglie): Alžbětínská serenádaAdam Michna z Otradovic: "Vánoční noc" (Chtíc\, aby spal)krkonošská koleda „Pochválen buď Ježíš Kristus\, milej Matěji"Anonym: "What Child is This?" (Greensleeves)U betléma dnes Marie přečistáBratři\, já jsem slyšel z&nbsp\;nebe hlas (z Benecka)Hej\, hej\, povím Vám\, Co to ten slavíčekFranz Xaver GRUBER: Tichá noc\, svatá nocDÉLKA cca 65 minut&nbsp\;
LOCATION:Plzeň
END:VEVENT
END:VCALENDAR