BEGIN:VCALENDAR
VERSION:2.0
CALSCALE:GREGORIAN
PRODID:-//MyApp//Calendar 1.0//EN
BEGIN:VEVENT
METHOD:PUBLISH
UID:44684@regionalniportaly.cz
DTSTAMP:20260424T174802Z
DTSTART;VALUE=DATE:20241020
DTEND;VALUE=DATE:20241021
SUMMARY:BEATLES 3 a ABBA klasicky
DESCRIPTION:Pojďte si užít zbrusu nové aranže písniček Beatles a ABBA\, které jsme ještě neuváděli - 3. díl&nbsp\;do krásného prostoru Betlémské kaple v PlzniKLÁROVO KVARTETOPavel Hrda – I. housle\,&nbsp\;Tom Klár - II. housle\,&nbsp\; &nbsp\; &nbsp\; &nbsp\; &nbsp\; &nbsp\; &nbsp\; &nbsp\; &nbsp\; &nbsp\; &nbsp\; &nbsp\; &nbsp\; &nbsp\; &nbsp\; &nbsp\; &nbsp\; &nbsp\; &nbsp\; &nbsp\; &nbsp\; &nbsp\; &nbsp\; &nbsp\; &nbsp\; &nbsp\; &nbsp\; &nbsp\; Jaroslav&nbsp\;Vašíček – viola\,&nbsp\; &nbsp\;Václav Fleissig – violoncello&nbsp\;PROGRAM:BEATLES:Please Mr. PostmanTicket to rideAnother GirlYes it sI need youTaste of HoneyIf I feelCan´t buy me loveTell me what you seeLet it beLove me doGet BackWhen I am 64ImagineI saw her standing hereABBA:Ring\, ringHoney\, honeyWinners takes it allI have a dreamDoes your mother knowDancing QueenDÉLKA cca 65 minut&nbsp\;
LOCATION:Plzeň
END:VEVENT
END:VCALENDAR